BEGIN:VCALENDAR
VERSION:2.0
PRODID:-//Gracepoint Church Ephrata - ECPv6.15.20//NONSGML v1.0//EN
CALSCALE:GREGORIAN
METHOD:PUBLISH
X-ORIGINAL-URL:https://www.gracepointephrata.org/fbc
X-WR-CALDESC:Events for Gracepoint Church Ephrata
REFRESH-INTERVAL;VALUE=DURATION:PT1H
X-Robots-Tag:noindex
X-PUBLISHED-TTL:PT1H
BEGIN:VTIMEZONE
TZID:America/Los_Angeles
BEGIN:DAYLIGHT
TZOFFSETFROM:-0800
TZOFFSETTO:-0700
TZNAME:PDT
DTSTART:20240310T100000
END:DAYLIGHT
BEGIN:STANDARD
TZOFFSETFROM:-0700
TZOFFSETTO:-0800
TZNAME:PST
DTSTART:20241103T090000
END:STANDARD
BEGIN:DAYLIGHT
TZOFFSETFROM:-0800
TZOFFSETTO:-0700
TZNAME:PDT
DTSTART:20250309T100000
END:DAYLIGHT
BEGIN:STANDARD
TZOFFSETFROM:-0700
TZOFFSETTO:-0800
TZNAME:PST
DTSTART:20251102T090000
END:STANDARD
BEGIN:DAYLIGHT
TZOFFSETFROM:-0800
TZOFFSETTO:-0700
TZNAME:PDT
DTSTART:20260308T100000
END:DAYLIGHT
BEGIN:STANDARD
TZOFFSETFROM:-0700
TZOFFSETTO:-0800
TZNAME:PST
DTSTART:20261101T090000
END:STANDARD
BEGIN:DAYLIGHT
TZOFFSETFROM:-0800
TZOFFSETTO:-0700
TZNAME:PDT
DTSTART:20270314T100000
END:DAYLIGHT
BEGIN:STANDARD
TZOFFSETFROM:-0700
TZOFFSETTO:-0800
TZNAME:PST
DTSTART:20271107T090000
END:STANDARD
END:VTIMEZONE
BEGIN:VEVENT
DTSTART;TZID=America/Los_Angeles:20260414T183000
DTEND;TZID=America/Los_Angeles:20260414T200000
DTSTAMP:20260423T004443
CREATED:20251208T171348Z
LAST-MODIFIED:20251224T174257Z
UID:10004296-1776191400-1776196800@www.gracepointephrata.org
SUMMARY:Elder Meeting
DESCRIPTION:The Elders of GracePoint Church will gather for their bi-weekly meeting.  If you would like to attend or have an issue you would like the elders to discuss\, please contact chairman\, Kevin Guinn\, or the office.
URL:https://www.gracepointephrata.org/fbc/event/elder-meeting-4-2-2/2026-04-14/
LOCATION:GracePoint Church\, 327 C Street SW\, Ephrata\, WA\, 98823\, United States
CATEGORIES:Meeting
ATTACH;FMTTYPE=image/jpeg:https://www.gracepointephrata.org/fbc/wp-content/uploads/2023/05/Elder-Meeting.jpg
ORGANIZER;CN="GracePoint Church":MAILTO:church@gracepointephrata.org
END:VEVENT
BEGIN:VEVENT
DTSTART;TZID=America/Los_Angeles:20260310T183000
DTEND;TZID=America/Los_Angeles:20260310T200000
DTSTAMP:20260423T004443
CREATED:20251208T171348Z
LAST-MODIFIED:20251224T174257Z
UID:10004295-1773167400-1773172800@www.gracepointephrata.org
SUMMARY:Elder Meeting
DESCRIPTION:The Elders of GracePoint Church will gather for their bi-weekly meeting.  If you would like to attend or have an issue you would like the elders to discuss\, please contact chairman\, Kevin Guinn\, or the office.
URL:https://www.gracepointephrata.org/fbc/event/elder-meeting-4-2-2/2026-03-10/
LOCATION:GracePoint Church\, 327 C Street SW\, Ephrata\, WA\, 98823\, United States
CATEGORIES:Meeting
ATTACH;FMTTYPE=image/jpeg:https://www.gracepointephrata.org/fbc/wp-content/uploads/2023/05/Elder-Meeting.jpg
ORGANIZER;CN="GracePoint Church":MAILTO:church@gracepointephrata.org
END:VEVENT
BEGIN:VEVENT
DTSTART;TZID=America/Los_Angeles:20260210T183000
DTEND;TZID=America/Los_Angeles:20260210T200000
DTSTAMP:20260423T004443
CREATED:20251208T171348Z
LAST-MODIFIED:20251224T174257Z
UID:10004294-1770748200-1770753600@www.gracepointephrata.org
SUMMARY:Elder Meeting
DESCRIPTION:The Elders of GracePoint Church will gather for their bi-weekly meeting.  If you would like to attend or have an issue you would like the elders to discuss\, please contact chairman\, Kevin Guinn\, or the office.
URL:https://www.gracepointephrata.org/fbc/event/elder-meeting-4-2-2/2026-02-10/
LOCATION:GracePoint Church\, 327 C Street SW\, Ephrata\, WA\, 98823\, United States
CATEGORIES:Meeting
ATTACH;FMTTYPE=image/jpeg:https://www.gracepointephrata.org/fbc/wp-content/uploads/2023/05/Elder-Meeting.jpg
ORGANIZER;CN="GracePoint Church":MAILTO:church@gracepointephrata.org
END:VEVENT
BEGIN:VEVENT
DTSTART;TZID=America/Los_Angeles:20260105T183000
DTEND;TZID=America/Los_Angeles:20260105T203000
DTSTAMP:20260423T004443
CREATED:20251208T171348Z
LAST-MODIFIED:20251224T174257Z
UID:10004358-1767637800-1767645000@www.gracepointephrata.org
SUMMARY:Elder Meeting
DESCRIPTION:The Elders of GracePoint Church will gather for their bi-weekly meeting.  If you would like to attend or have an issue you would like the elders to discuss\, please contact chairman\, Kevin Guinn\, or the office.
URL:https://www.gracepointephrata.org/fbc/event/elder-meeting-4-2-2/2026-01-05/
LOCATION:GracePoint Church\, 327 C Street SW\, Ephrata\, WA\, 98823\, United States
CATEGORIES:Meeting
ATTACH;FMTTYPE=image/jpeg:https://www.gracepointephrata.org/fbc/wp-content/uploads/2023/05/Elder-Meeting.jpg
ORGANIZER;CN="GracePoint Church":MAILTO:church@gracepointephrata.org
END:VEVENT
BEGIN:VEVENT
DTSTART;TZID=America/Los_Angeles:20251209T183000
DTEND;TZID=America/Los_Angeles:20251209T200000
DTSTAMP:20260423T004443
CREATED:20251208T171348Z
LAST-MODIFIED:20251224T174257Z
UID:10003673-1765305000-1765310400@www.gracepointephrata.org
SUMMARY:Elder Meeting
DESCRIPTION:The Elders of GracePoint Church will gather for their bi-weekly meeting.  If you would like to attend or have an issue you would like the elders to discuss\, please contact chairman\, Kevin Guinn\, or the office.
URL:https://www.gracepointephrata.org/fbc/event/elder-meeting-4-2-2/2025-12-09/
LOCATION:GracePoint Church\, 327 C Street SW\, Ephrata\, WA\, 98823\, United States
CATEGORIES:Meeting
ATTACH;FMTTYPE=image/jpeg:https://www.gracepointephrata.org/fbc/wp-content/uploads/2023/05/Elder-Meeting.jpg
ORGANIZER;CN="GracePoint Church":MAILTO:church@gracepointephrata.org
END:VEVENT
BEGIN:VEVENT
DTSTART;TZID=America/Los_Angeles:20251111T180000
DTEND;TZID=America/Los_Angeles:20251111T193000
DTSTAMP:20260423T004443
CREATED:20250402T172328Z
LAST-MODIFIED:20250402T172330Z
UID:10003672-1762884000-1762889400@www.gracepointephrata.org
SUMMARY:Elder Meeting
DESCRIPTION:The Elders of GracePoint Church will gather for their bi-weekly meeting.  If you would like to attend or have an issue you would like the elders to discuss\, please contact chairman\, Kevin Guinn\, or the office.
URL:https://www.gracepointephrata.org/fbc/event/elder-meeting-4-2/2025-11-11/
LOCATION:GracePoint Church\, 327 C Street SW\, Ephrata\, WA\, 98823\, United States
CATEGORIES:Meeting
ATTACH;FMTTYPE=image/jpeg:https://www.gracepointephrata.org/fbc/wp-content/uploads/2023/05/Elder-Meeting.jpg
ORGANIZER;CN="GracePoint Church":MAILTO:church@gracepointephrata.org
END:VEVENT
BEGIN:VEVENT
DTSTART;TZID=America/Los_Angeles:20251014T180000
DTEND;TZID=America/Los_Angeles:20251014T193000
DTSTAMP:20260423T004443
CREATED:20250402T172328Z
LAST-MODIFIED:20250402T172330Z
UID:10003671-1760464800-1760470200@www.gracepointephrata.org
SUMMARY:Elder Meeting
DESCRIPTION:The Elders of GracePoint Church will gather for their bi-weekly meeting.  If you would like to attend or have an issue you would like the elders to discuss\, please contact chairman\, Kevin Guinn\, or the office.
URL:https://www.gracepointephrata.org/fbc/event/elder-meeting-4-2/2025-10-14/
LOCATION:GracePoint Church\, 327 C Street SW\, Ephrata\, WA\, 98823\, United States
CATEGORIES:Meeting
ATTACH;FMTTYPE=image/jpeg:https://www.gracepointephrata.org/fbc/wp-content/uploads/2023/05/Elder-Meeting.jpg
ORGANIZER;CN="GracePoint Church":MAILTO:church@gracepointephrata.org
END:VEVENT
BEGIN:VEVENT
DTSTART;TZID=America/Los_Angeles:20250909T180000
DTEND;TZID=America/Los_Angeles:20250909T193000
DTSTAMP:20260423T004443
CREATED:20250402T172328Z
LAST-MODIFIED:20250402T172330Z
UID:10003670-1757440800-1757446200@www.gracepointephrata.org
SUMMARY:Elder Meeting
DESCRIPTION:The Elders of GracePoint Church will gather for their bi-weekly meeting.  If you would like to attend or have an issue you would like the elders to discuss\, please contact chairman\, Kevin Guinn\, or the office.
URL:https://www.gracepointephrata.org/fbc/event/elder-meeting-4-2/2025-09-09/
LOCATION:GracePoint Church\, 327 C Street SW\, Ephrata\, WA\, 98823\, United States
CATEGORIES:Meeting
ATTACH;FMTTYPE=image/jpeg:https://www.gracepointephrata.org/fbc/wp-content/uploads/2023/05/Elder-Meeting.jpg
ORGANIZER;CN="GracePoint Church":MAILTO:church@gracepointephrata.org
END:VEVENT
BEGIN:VEVENT
DTSTART;TZID=America/Los_Angeles:20250826T180000
DTEND;TZID=America/Los_Angeles:20250826T200000
DTSTAMP:20260423T004443
CREATED:20250708T165943Z
LAST-MODIFIED:20250813T171544Z
UID:10004038-1756231200-1756238400@www.gracepointephrata.org
SUMMARY:Elder Meeting
DESCRIPTION:The Elders of GracePoint Church will gather for their bi-weekly meeting.  If you would like to attend or have an issue you would like the elders to discuss\, please contact chairman\, Kevin Guinn\, or the office.
URL:https://www.gracepointephrata.org/fbc/event/elder-meeting-5-2-2/2025-08-26/
LOCATION:GracePoint Church\, 327 C Street SW\, Ephrata\, WA\, 98823\, United States
CATEGORIES:Meeting
ATTACH;FMTTYPE=image/jpeg:https://www.gracepointephrata.org/fbc/wp-content/uploads/2023/05/Elder-Meeting.jpg
ORGANIZER;CN="GracePoint Church":MAILTO:church@gracepointephrata.org
END:VEVENT
BEGIN:VEVENT
DTSTART;TZID=America/Los_Angeles:20250812T180000
DTEND;TZID=America/Los_Angeles:20250812T193000
DTSTAMP:20260423T004443
CREATED:20250402T172328Z
LAST-MODIFIED:20250402T172330Z
UID:10003669-1755021600-1755027000@www.gracepointephrata.org
SUMMARY:Elder Meeting
DESCRIPTION:The Elders of GracePoint Church will gather for their bi-weekly meeting.  If you would like to attend or have an issue you would like the elders to discuss\, please contact chairman\, Kevin Guinn\, or the office.
URL:https://www.gracepointephrata.org/fbc/event/elder-meeting-4-2/2025-08-12/
LOCATION:GracePoint Church\, 327 C Street SW\, Ephrata\, WA\, 98823\, United States
CATEGORIES:Meeting
ATTACH;FMTTYPE=image/jpeg:https://www.gracepointephrata.org/fbc/wp-content/uploads/2023/05/Elder-Meeting.jpg
ORGANIZER;CN="GracePoint Church":MAILTO:church@gracepointephrata.org
END:VEVENT
BEGIN:VEVENT
DTSTART;TZID=America/Los_Angeles:20250728T180000
DTEND;TZID=America/Los_Angeles:20250728T183000
DTSTAMP:20260423T004443
CREATED:20250708T165943Z
LAST-MODIFIED:20250813T171544Z
UID:10003544-1753725600-1753727400@www.gracepointephrata.org
SUMMARY:Elder Meeting
DESCRIPTION:The Elders of GracePoint Church will gather for their bi-weekly meeting.  If you would like to attend or have an issue you would like the elders to discuss\, please contact chairman\, Kevin Guinn\, or the office.
URL:https://www.gracepointephrata.org/fbc/event/elder-meeting-5-2-2/2025-07-28/
LOCATION:GracePoint Church\, 327 C Street SW\, Ephrata\, WA\, 98823\, United States
CATEGORIES:Meeting
ATTACH;FMTTYPE=image/jpeg:https://www.gracepointephrata.org/fbc/wp-content/uploads/2023/05/Elder-Meeting.jpg
ORGANIZER;CN="GracePoint Church":MAILTO:church@gracepointephrata.org
END:VEVENT
BEGIN:VEVENT
DTSTART;TZID=America/Los_Angeles:20250708T180000
DTEND;TZID=America/Los_Angeles:20250708T193000
DTSTAMP:20260423T004443
CREATED:20250402T172328Z
LAST-MODIFIED:20250402T172330Z
UID:10003668-1751997600-1752003000@www.gracepointephrata.org
SUMMARY:Elder Meeting
DESCRIPTION:The Elders of GracePoint Church will gather for their bi-weekly meeting.  If you would like to attend or have an issue you would like the elders to discuss\, please contact chairman\, Kevin Guinn\, or the office.
URL:https://www.gracepointephrata.org/fbc/event/elder-meeting-4-2/2025-07-08/
LOCATION:GracePoint Church\, 327 C Street SW\, Ephrata\, WA\, 98823\, United States
CATEGORIES:Meeting
ATTACH;FMTTYPE=image/jpeg:https://www.gracepointephrata.org/fbc/wp-content/uploads/2023/05/Elder-Meeting.jpg
ORGANIZER;CN="GracePoint Church":MAILTO:church@gracepointephrata.org
END:VEVENT
BEGIN:VEVENT
DTSTART;TZID=America/Los_Angeles:20250708T080000
DTEND;TZID=America/Los_Angeles:20250708T170000
DTSTAMP:20260423T004443
CREATED:20250708T165943Z
LAST-MODIFIED:20250813T171544Z
UID:10003820-1751961600-1751994000@www.gracepointephrata.org
SUMMARY:Elder Meeting
DESCRIPTION:The Elders of GracePoint Church will gather for their bi-weekly meeting.  If you would like to attend or have an issue you would like the elders to discuss\, please contact chairman\, Kevin Guinn\, or the office.
URL:https://www.gracepointephrata.org/fbc/event/elder-meeting-5-2-2/2025-07-08/
LOCATION:GracePoint Church\, 327 C Street SW\, Ephrata\, WA\, 98823\, United States
CATEGORIES:Meeting
ATTACH;FMTTYPE=image/jpeg:https://www.gracepointephrata.org/fbc/wp-content/uploads/2023/05/Elder-Meeting.jpg
ORGANIZER;CN="GracePoint Church":MAILTO:church@gracepointephrata.org
END:VEVENT
BEGIN:VEVENT
DTSTART;TZID=America/Los_Angeles:20250617T180000
DTEND;TZID=America/Los_Angeles:20250617T200000
DTSTAMP:20260423T004443
CREATED:20250612T181809Z
LAST-MODIFIED:20250612T181809Z
UID:10003815-1750183200-1750190400@www.gracepointephrata.org
SUMMARY:Elder Meeting
DESCRIPTION:Monthly meeting of the GracePoint elders and deacon.
URL:https://www.gracepointephrata.org/fbc/event/elder-meeting-2/
LOCATION:GracePoint Church\, 327 C Street SW\, Ephrata\, WA\, 98823\, United States
CATEGORIES:Meeting
ATTACH;FMTTYPE=image/jpeg:https://www.gracepointephrata.org/fbc/wp-content/uploads/2022/06/elderMeeting-e1673544683354.jpg
ORGANIZER;CN="GracePoint Church":MAILTO:church@gracepointephrata.org
END:VEVENT
BEGIN:VEVENT
DTSTART;TZID=America/Los_Angeles:20250617T180000
DTEND;TZID=America/Los_Angeles:20250617T183000
DTSTAMP:20260423T004443
CREATED:20250310T172745Z
LAST-MODIFIED:20250310T172747Z
UID:10003543-1750183200-1750185000@www.gracepointephrata.org
SUMMARY:Elder Meeting
DESCRIPTION:The Elders of GracePoint Church will gather for their bi-weekly meeting.  If you would like to attend or have an issue you would like the elders to discuss\, please contact chairman\, Kevin Guinn\, or the office.
URL:https://www.gracepointephrata.org/fbc/event/elder-meeting-5-2/2025-06-17/
LOCATION:GracePoint Church\, 327 C Street SW\, Ephrata\, WA\, 98823\, United States
CATEGORIES:Meeting
ATTACH;FMTTYPE=image/jpeg:https://www.gracepointephrata.org/fbc/wp-content/uploads/2023/05/Elder-Meeting.jpg
ORGANIZER;CN="GracePoint Church":MAILTO:church@gracepointephrata.org
END:VEVENT
BEGIN:VEVENT
DTSTART;TZID=America/Los_Angeles:20250610T180000
DTEND;TZID=America/Los_Angeles:20250610T193000
DTSTAMP:20260423T004443
CREATED:20250402T172328Z
LAST-MODIFIED:20250402T172330Z
UID:10003667-1749578400-1749583800@www.gracepointephrata.org
SUMMARY:Elder Meeting
DESCRIPTION:The Elders of GracePoint Church will gather for their bi-weekly meeting.  If you would like to attend or have an issue you would like the elders to discuss\, please contact chairman\, Kevin Guinn\, or the office.
URL:https://www.gracepointephrata.org/fbc/event/elder-meeting-4-2/2025-06-10/
LOCATION:GracePoint Church\, 327 C Street SW\, Ephrata\, WA\, 98823\, United States
CATEGORIES:Meeting
ATTACH;FMTTYPE=image/jpeg:https://www.gracepointephrata.org/fbc/wp-content/uploads/2023/05/Elder-Meeting.jpg
ORGANIZER;CN="GracePoint Church":MAILTO:church@gracepointephrata.org
END:VEVENT
BEGIN:VEVENT
DTSTART;TZID=America/Los_Angeles:20250520T180000
DTEND;TZID=America/Los_Angeles:20250520T183000
DTSTAMP:20260423T004443
CREATED:20250310T172745Z
LAST-MODIFIED:20250310T172747Z
UID:10003542-1747764000-1747765800@www.gracepointephrata.org
SUMMARY:Elder Meeting
DESCRIPTION:The Elders of GracePoint Church will gather for their bi-weekly meeting.  If you would like to attend or have an issue you would like the elders to discuss\, please contact chairman\, Kevin Guinn\, or the office.
URL:https://www.gracepointephrata.org/fbc/event/elder-meeting-5-2/2025-05-20/
LOCATION:GracePoint Church\, 327 C Street SW\, Ephrata\, WA\, 98823\, United States
CATEGORIES:Meeting
ATTACH;FMTTYPE=image/jpeg:https://www.gracepointephrata.org/fbc/wp-content/uploads/2023/05/Elder-Meeting.jpg
ORGANIZER;CN="GracePoint Church":MAILTO:church@gracepointephrata.org
END:VEVENT
BEGIN:VEVENT
DTSTART;TZID=America/Los_Angeles:20250513T180000
DTEND;TZID=America/Los_Angeles:20250513T193000
DTSTAMP:20260423T004443
CREATED:20250402T172328Z
LAST-MODIFIED:20250402T172330Z
UID:10003666-1747159200-1747164600@www.gracepointephrata.org
SUMMARY:Elder Meeting
DESCRIPTION:The Elders of GracePoint Church will gather for their bi-weekly meeting.  If you would like to attend or have an issue you would like the elders to discuss\, please contact chairman\, Kevin Guinn\, or the office.
URL:https://www.gracepointephrata.org/fbc/event/elder-meeting-4-2/2025-05-13/
LOCATION:GracePoint Church\, 327 C Street SW\, Ephrata\, WA\, 98823\, United States
CATEGORIES:Meeting
ATTACH;FMTTYPE=image/jpeg:https://www.gracepointephrata.org/fbc/wp-content/uploads/2023/05/Elder-Meeting.jpg
ORGANIZER;CN="GracePoint Church":MAILTO:church@gracepointephrata.org
END:VEVENT
END:VCALENDAR