BEGIN:VCALENDAR
VERSION:2.0
PRODID:-//Gracepoint Church Ephrata - ECPv6.15.20//NONSGML v1.0//EN
CALSCALE:GREGORIAN
METHOD:PUBLISH
X-WR-CALNAME:Gracepoint Church Ephrata
X-ORIGINAL-URL:https://www.gracepointephrata.org/fbc
X-WR-CALDESC:Events for Gracepoint Church Ephrata
REFRESH-INTERVAL;VALUE=DURATION:PT1H
X-Robots-Tag:noindex
X-PUBLISHED-TTL:PT1H
BEGIN:VTIMEZONE
TZID:America/Los_Angeles
BEGIN:DAYLIGHT
TZOFFSETFROM:-0800
TZOFFSETTO:-0700
TZNAME:PDT
DTSTART:20260308T100000
END:DAYLIGHT
BEGIN:STANDARD
TZOFFSETFROM:-0700
TZOFFSETTO:-0800
TZNAME:PST
DTSTART:20261101T090000
END:STANDARD
BEGIN:DAYLIGHT
TZOFFSETFROM:-0800
TZOFFSETTO:-0700
TZNAME:PDT
DTSTART:20270314T100000
END:DAYLIGHT
BEGIN:STANDARD
TZOFFSETFROM:-0700
TZOFFSETTO:-0800
TZNAME:PST
DTSTART:20271107T090000
END:STANDARD
BEGIN:DAYLIGHT
TZOFFSETFROM:-0800
TZOFFSETTO:-0700
TZNAME:PDT
DTSTART:20280312T100000
END:DAYLIGHT
BEGIN:STANDARD
TZOFFSETFROM:-0700
TZOFFSETTO:-0800
TZNAME:PST
DTSTART:20281105T090000
END:STANDARD
BEGIN:DAYLIGHT
TZOFFSETFROM:-0800
TZOFFSETTO:-0700
TZNAME:PDT
DTSTART:20290311T100000
END:DAYLIGHT
BEGIN:STANDARD
TZOFFSETFROM:-0700
TZOFFSETTO:-0800
TZNAME:PST
DTSTART:20291104T090000
END:STANDARD
BEGIN:DAYLIGHT
TZOFFSETFROM:-0800
TZOFFSETTO:-0700
TZNAME:PDT
DTSTART:20300310T100000
END:DAYLIGHT
BEGIN:STANDARD
TZOFFSETFROM:-0700
TZOFFSETTO:-0800
TZNAME:PST
DTSTART:20301103T090000
END:STANDARD
END:VTIMEZONE
BEGIN:VEVENT
DTSTART;TZID=America/Los_Angeles:20270511T183000
DTEND;TZID=America/Los_Angeles:20270511T200000
DTSTAMP:20260423T004225
CREATED:20251208T171348Z
LAST-MODIFIED:20251224T174257Z
UID:10004309-1810060200-1810065600@www.gracepointephrata.org
SUMMARY:Elder Meeting
DESCRIPTION:The Elders of GracePoint Church will gather for their bi-weekly meeting.  If you would like to attend or have an issue you would like the elders to discuss\, please contact chairman\, Kevin Guinn\, or the office.
URL:https://www.gracepointephrata.org/fbc/event/elder-meeting-4-2-2/2027-05-11/
LOCATION:GracePoint Church\, 327 C Street SW\, Ephrata\, WA\, 98823\, United States
CATEGORIES:Meeting
ATTACH;FMTTYPE=image/jpeg:https://www.gracepointephrata.org/fbc/wp-content/uploads/2023/05/Elder-Meeting.jpg
ORGANIZER;CN="GracePoint Church":MAILTO:church@gracepointephrata.org
END:VEVENT
BEGIN:VEVENT
DTSTART;TZID=America/Los_Angeles:20270608T183000
DTEND;TZID=America/Los_Angeles:20270608T200000
DTSTAMP:20260423T004225
CREATED:20251208T171348Z
LAST-MODIFIED:20251224T174257Z
UID:10004310-1812479400-1812484800@www.gracepointephrata.org
SUMMARY:Elder Meeting
DESCRIPTION:The Elders of GracePoint Church will gather for their bi-weekly meeting.  If you would like to attend or have an issue you would like the elders to discuss\, please contact chairman\, Kevin Guinn\, or the office.
URL:https://www.gracepointephrata.org/fbc/event/elder-meeting-4-2-2/2027-06-08/
LOCATION:GracePoint Church\, 327 C Street SW\, Ephrata\, WA\, 98823\, United States
CATEGORIES:Meeting
ATTACH;FMTTYPE=image/jpeg:https://www.gracepointephrata.org/fbc/wp-content/uploads/2023/05/Elder-Meeting.jpg
ORGANIZER;CN="GracePoint Church":MAILTO:church@gracepointephrata.org
END:VEVENT
BEGIN:VEVENT
DTSTART;TZID=America/Los_Angeles:20270713T183000
DTEND;TZID=America/Los_Angeles:20270713T200000
DTSTAMP:20260423T004225
CREATED:20251208T171348Z
LAST-MODIFIED:20251224T174257Z
UID:10004311-1815503400-1815508800@www.gracepointephrata.org
SUMMARY:Elder Meeting
DESCRIPTION:The Elders of GracePoint Church will gather for their bi-weekly meeting.  If you would like to attend or have an issue you would like the elders to discuss\, please contact chairman\, Kevin Guinn\, or the office.
URL:https://www.gracepointephrata.org/fbc/event/elder-meeting-4-2-2/2027-07-13/
LOCATION:GracePoint Church\, 327 C Street SW\, Ephrata\, WA\, 98823\, United States
CATEGORIES:Meeting
ATTACH;FMTTYPE=image/jpeg:https://www.gracepointephrata.org/fbc/wp-content/uploads/2023/05/Elder-Meeting.jpg
ORGANIZER;CN="GracePoint Church":MAILTO:church@gracepointephrata.org
END:VEVENT
BEGIN:VEVENT
DTSTART;TZID=America/Los_Angeles:20270810T183000
DTEND;TZID=America/Los_Angeles:20270810T200000
DTSTAMP:20260423T004225
CREATED:20251208T171348Z
LAST-MODIFIED:20251224T174257Z
UID:10004312-1817922600-1817928000@www.gracepointephrata.org
SUMMARY:Elder Meeting
DESCRIPTION:The Elders of GracePoint Church will gather for their bi-weekly meeting.  If you would like to attend or have an issue you would like the elders to discuss\, please contact chairman\, Kevin Guinn\, or the office.
URL:https://www.gracepointephrata.org/fbc/event/elder-meeting-4-2-2/2027-08-10/
LOCATION:GracePoint Church\, 327 C Street SW\, Ephrata\, WA\, 98823\, United States
CATEGORIES:Meeting
ATTACH;FMTTYPE=image/jpeg:https://www.gracepointephrata.org/fbc/wp-content/uploads/2023/05/Elder-Meeting.jpg
ORGANIZER;CN="GracePoint Church":MAILTO:church@gracepointephrata.org
END:VEVENT
BEGIN:VEVENT
DTSTART;TZID=America/Los_Angeles:20270914T183000
DTEND;TZID=America/Los_Angeles:20270914T200000
DTSTAMP:20260423T004225
CREATED:20251208T171348Z
LAST-MODIFIED:20251224T174257Z
UID:10004313-1820946600-1820952000@www.gracepointephrata.org
SUMMARY:Elder Meeting
DESCRIPTION:The Elders of GracePoint Church will gather for their bi-weekly meeting.  If you would like to attend or have an issue you would like the elders to discuss\, please contact chairman\, Kevin Guinn\, or the office.
URL:https://www.gracepointephrata.org/fbc/event/elder-meeting-4-2-2/2027-09-14/
LOCATION:GracePoint Church\, 327 C Street SW\, Ephrata\, WA\, 98823\, United States
CATEGORIES:Meeting
ATTACH;FMTTYPE=image/jpeg:https://www.gracepointephrata.org/fbc/wp-content/uploads/2023/05/Elder-Meeting.jpg
ORGANIZER;CN="GracePoint Church":MAILTO:church@gracepointephrata.org
END:VEVENT
BEGIN:VEVENT
DTSTART;TZID=America/Los_Angeles:20271012T183000
DTEND;TZID=America/Los_Angeles:20271012T200000
DTSTAMP:20260423T004225
CREATED:20251208T171348Z
LAST-MODIFIED:20251224T174257Z
UID:10004314-1823365800-1823371200@www.gracepointephrata.org
SUMMARY:Elder Meeting
DESCRIPTION:The Elders of GracePoint Church will gather for their bi-weekly meeting.  If you would like to attend or have an issue you would like the elders to discuss\, please contact chairman\, Kevin Guinn\, or the office.
URL:https://www.gracepointephrata.org/fbc/event/elder-meeting-4-2-2/2027-10-12/
LOCATION:GracePoint Church\, 327 C Street SW\, Ephrata\, WA\, 98823\, United States
CATEGORIES:Meeting
ATTACH;FMTTYPE=image/jpeg:https://www.gracepointephrata.org/fbc/wp-content/uploads/2023/05/Elder-Meeting.jpg
ORGANIZER;CN="GracePoint Church":MAILTO:church@gracepointephrata.org
END:VEVENT
BEGIN:VEVENT
DTSTART;TZID=America/Los_Angeles:20271109T183000
DTEND;TZID=America/Los_Angeles:20271109T200000
DTSTAMP:20260423T004225
CREATED:20251208T171348Z
LAST-MODIFIED:20251224T174257Z
UID:10004315-1825785000-1825790400@www.gracepointephrata.org
SUMMARY:Elder Meeting
DESCRIPTION:The Elders of GracePoint Church will gather for their bi-weekly meeting.  If you would like to attend or have an issue you would like the elders to discuss\, please contact chairman\, Kevin Guinn\, or the office.
URL:https://www.gracepointephrata.org/fbc/event/elder-meeting-4-2-2/2027-11-09/
LOCATION:GracePoint Church\, 327 C Street SW\, Ephrata\, WA\, 98823\, United States
CATEGORIES:Meeting
ATTACH;FMTTYPE=image/jpeg:https://www.gracepointephrata.org/fbc/wp-content/uploads/2023/05/Elder-Meeting.jpg
ORGANIZER;CN="GracePoint Church":MAILTO:church@gracepointephrata.org
END:VEVENT
BEGIN:VEVENT
DTSTART;TZID=America/Los_Angeles:20271214T183000
DTEND;TZID=America/Los_Angeles:20271214T200000
DTSTAMP:20260423T004225
CREATED:20251208T171348Z
LAST-MODIFIED:20251224T174257Z
UID:10004316-1828809000-1828814400@www.gracepointephrata.org
SUMMARY:Elder Meeting
DESCRIPTION:The Elders of GracePoint Church will gather for their bi-weekly meeting.  If you would like to attend or have an issue you would like the elders to discuss\, please contact chairman\, Kevin Guinn\, or the office.
URL:https://www.gracepointephrata.org/fbc/event/elder-meeting-4-2-2/2027-12-14/
LOCATION:GracePoint Church\, 327 C Street SW\, Ephrata\, WA\, 98823\, United States
CATEGORIES:Meeting
ATTACH;FMTTYPE=image/jpeg:https://www.gracepointephrata.org/fbc/wp-content/uploads/2023/05/Elder-Meeting.jpg
ORGANIZER;CN="GracePoint Church":MAILTO:church@gracepointephrata.org
END:VEVENT
BEGIN:VEVENT
DTSTART;TZID=America/Los_Angeles:20280111T183000
DTEND;TZID=America/Los_Angeles:20280111T200000
DTSTAMP:20260423T004225
CREATED:20251208T171348Z
LAST-MODIFIED:20251224T174257Z
UID:10004317-1831228200-1831233600@www.gracepointephrata.org
SUMMARY:Elder Meeting
DESCRIPTION:The Elders of GracePoint Church will gather for their bi-weekly meeting.  If you would like to attend or have an issue you would like the elders to discuss\, please contact chairman\, Kevin Guinn\, or the office.
URL:https://www.gracepointephrata.org/fbc/event/elder-meeting-4-2-2/2028-01-11/
LOCATION:GracePoint Church\, 327 C Street SW\, Ephrata\, WA\, 98823\, United States
CATEGORIES:Meeting
ATTACH;FMTTYPE=image/jpeg:https://www.gracepointephrata.org/fbc/wp-content/uploads/2023/05/Elder-Meeting.jpg
ORGANIZER;CN="GracePoint Church":MAILTO:church@gracepointephrata.org
END:VEVENT
BEGIN:VEVENT
DTSTART;TZID=America/Los_Angeles:20280208T183000
DTEND;TZID=America/Los_Angeles:20280208T200000
DTSTAMP:20260423T004225
CREATED:20251208T171348Z
LAST-MODIFIED:20251224T174257Z
UID:10004318-1833647400-1833652800@www.gracepointephrata.org
SUMMARY:Elder Meeting
DESCRIPTION:The Elders of GracePoint Church will gather for their bi-weekly meeting.  If you would like to attend or have an issue you would like the elders to discuss\, please contact chairman\, Kevin Guinn\, or the office.
URL:https://www.gracepointephrata.org/fbc/event/elder-meeting-4-2-2/2028-02-08/
LOCATION:GracePoint Church\, 327 C Street SW\, Ephrata\, WA\, 98823\, United States
CATEGORIES:Meeting
ATTACH;FMTTYPE=image/jpeg:https://www.gracepointephrata.org/fbc/wp-content/uploads/2023/05/Elder-Meeting.jpg
ORGANIZER;CN="GracePoint Church":MAILTO:church@gracepointephrata.org
END:VEVENT
BEGIN:VEVENT
DTSTART;TZID=America/Los_Angeles:20280314T183000
DTEND;TZID=America/Los_Angeles:20280314T200000
DTSTAMP:20260423T004225
CREATED:20251208T171348Z
LAST-MODIFIED:20251224T174257Z
UID:10004319-1836671400-1836676800@www.gracepointephrata.org
SUMMARY:Elder Meeting
DESCRIPTION:The Elders of GracePoint Church will gather for their bi-weekly meeting.  If you would like to attend or have an issue you would like the elders to discuss\, please contact chairman\, Kevin Guinn\, or the office.
URL:https://www.gracepointephrata.org/fbc/event/elder-meeting-4-2-2/2028-03-14/
LOCATION:GracePoint Church\, 327 C Street SW\, Ephrata\, WA\, 98823\, United States
CATEGORIES:Meeting
ATTACH;FMTTYPE=image/jpeg:https://www.gracepointephrata.org/fbc/wp-content/uploads/2023/05/Elder-Meeting.jpg
ORGANIZER;CN="GracePoint Church":MAILTO:church@gracepointephrata.org
END:VEVENT
BEGIN:VEVENT
DTSTART;TZID=America/Los_Angeles:20280411T183000
DTEND;TZID=America/Los_Angeles:20280411T200000
DTSTAMP:20260423T004225
CREATED:20251208T171348Z
LAST-MODIFIED:20251224T174257Z
UID:10004320-1839090600-1839096000@www.gracepointephrata.org
SUMMARY:Elder Meeting
DESCRIPTION:The Elders of GracePoint Church will gather for their bi-weekly meeting.  If you would like to attend or have an issue you would like the elders to discuss\, please contact chairman\, Kevin Guinn\, or the office.
URL:https://www.gracepointephrata.org/fbc/event/elder-meeting-4-2-2/2028-04-11/
LOCATION:GracePoint Church\, 327 C Street SW\, Ephrata\, WA\, 98823\, United States
CATEGORIES:Meeting
ATTACH;FMTTYPE=image/jpeg:https://www.gracepointephrata.org/fbc/wp-content/uploads/2023/05/Elder-Meeting.jpg
ORGANIZER;CN="GracePoint Church":MAILTO:church@gracepointephrata.org
END:VEVENT
BEGIN:VEVENT
DTSTART;TZID=America/Los_Angeles:20280509T183000
DTEND;TZID=America/Los_Angeles:20280509T200000
DTSTAMP:20260423T004225
CREATED:20251208T171348Z
LAST-MODIFIED:20251224T174257Z
UID:10004321-1841509800-1841515200@www.gracepointephrata.org
SUMMARY:Elder Meeting
DESCRIPTION:The Elders of GracePoint Church will gather for their bi-weekly meeting.  If you would like to attend or have an issue you would like the elders to discuss\, please contact chairman\, Kevin Guinn\, or the office.
URL:https://www.gracepointephrata.org/fbc/event/elder-meeting-4-2-2/2028-05-09/
LOCATION:GracePoint Church\, 327 C Street SW\, Ephrata\, WA\, 98823\, United States
CATEGORIES:Meeting
ATTACH;FMTTYPE=image/jpeg:https://www.gracepointephrata.org/fbc/wp-content/uploads/2023/05/Elder-Meeting.jpg
ORGANIZER;CN="GracePoint Church":MAILTO:church@gracepointephrata.org
END:VEVENT
BEGIN:VEVENT
DTSTART;TZID=America/Los_Angeles:20280613T183000
DTEND;TZID=America/Los_Angeles:20280613T200000
DTSTAMP:20260423T004225
CREATED:20251208T171348Z
LAST-MODIFIED:20251224T174257Z
UID:10004322-1844533800-1844539200@www.gracepointephrata.org
SUMMARY:Elder Meeting
DESCRIPTION:The Elders of GracePoint Church will gather for their bi-weekly meeting.  If you would like to attend or have an issue you would like the elders to discuss\, please contact chairman\, Kevin Guinn\, or the office.
URL:https://www.gracepointephrata.org/fbc/event/elder-meeting-4-2-2/2028-06-13/
LOCATION:GracePoint Church\, 327 C Street SW\, Ephrata\, WA\, 98823\, United States
CATEGORIES:Meeting
ATTACH;FMTTYPE=image/jpeg:https://www.gracepointephrata.org/fbc/wp-content/uploads/2023/05/Elder-Meeting.jpg
ORGANIZER;CN="GracePoint Church":MAILTO:church@gracepointephrata.org
END:VEVENT
BEGIN:VEVENT
DTSTART;TZID=America/Los_Angeles:20280711T183000
DTEND;TZID=America/Los_Angeles:20280711T200000
DTSTAMP:20260423T004225
CREATED:20251208T171348Z
LAST-MODIFIED:20251224T174257Z
UID:10004323-1846953000-1846958400@www.gracepointephrata.org
SUMMARY:Elder Meeting
DESCRIPTION:The Elders of GracePoint Church will gather for their bi-weekly meeting.  If you would like to attend or have an issue you would like the elders to discuss\, please contact chairman\, Kevin Guinn\, or the office.
URL:https://www.gracepointephrata.org/fbc/event/elder-meeting-4-2-2/2028-07-11/
LOCATION:GracePoint Church\, 327 C Street SW\, Ephrata\, WA\, 98823\, United States
CATEGORIES:Meeting
ATTACH;FMTTYPE=image/jpeg:https://www.gracepointephrata.org/fbc/wp-content/uploads/2023/05/Elder-Meeting.jpg
ORGANIZER;CN="GracePoint Church":MAILTO:church@gracepointephrata.org
END:VEVENT
BEGIN:VEVENT
DTSTART;TZID=America/Los_Angeles:20280808T183000
DTEND;TZID=America/Los_Angeles:20280808T200000
DTSTAMP:20260423T004225
CREATED:20251208T171348Z
LAST-MODIFIED:20251224T174257Z
UID:10004324-1849372200-1849377600@www.gracepointephrata.org
SUMMARY:Elder Meeting
DESCRIPTION:The Elders of GracePoint Church will gather for their bi-weekly meeting.  If you would like to attend or have an issue you would like the elders to discuss\, please contact chairman\, Kevin Guinn\, or the office.
URL:https://www.gracepointephrata.org/fbc/event/elder-meeting-4-2-2/2028-08-08/
LOCATION:GracePoint Church\, 327 C Street SW\, Ephrata\, WA\, 98823\, United States
CATEGORIES:Meeting
ATTACH;FMTTYPE=image/jpeg:https://www.gracepointephrata.org/fbc/wp-content/uploads/2023/05/Elder-Meeting.jpg
ORGANIZER;CN="GracePoint Church":MAILTO:church@gracepointephrata.org
END:VEVENT
BEGIN:VEVENT
DTSTART;TZID=America/Los_Angeles:20280912T183000
DTEND;TZID=America/Los_Angeles:20280912T200000
DTSTAMP:20260423T004225
CREATED:20251208T171348Z
LAST-MODIFIED:20251224T174257Z
UID:10004325-1852396200-1852401600@www.gracepointephrata.org
SUMMARY:Elder Meeting
DESCRIPTION:The Elders of GracePoint Church will gather for their bi-weekly meeting.  If you would like to attend or have an issue you would like the elders to discuss\, please contact chairman\, Kevin Guinn\, or the office.
URL:https://www.gracepointephrata.org/fbc/event/elder-meeting-4-2-2/2028-09-12/
LOCATION:GracePoint Church\, 327 C Street SW\, Ephrata\, WA\, 98823\, United States
CATEGORIES:Meeting
ATTACH;FMTTYPE=image/jpeg:https://www.gracepointephrata.org/fbc/wp-content/uploads/2023/05/Elder-Meeting.jpg
ORGANIZER;CN="GracePoint Church":MAILTO:church@gracepointephrata.org
END:VEVENT
BEGIN:VEVENT
DTSTART;TZID=America/Los_Angeles:20281010T183000
DTEND;TZID=America/Los_Angeles:20281010T200000
DTSTAMP:20260423T004225
CREATED:20251208T171348Z
LAST-MODIFIED:20251224T174257Z
UID:10004326-1854815400-1854820800@www.gracepointephrata.org
SUMMARY:Elder Meeting
DESCRIPTION:The Elders of GracePoint Church will gather for their bi-weekly meeting.  If you would like to attend or have an issue you would like the elders to discuss\, please contact chairman\, Kevin Guinn\, or the office.
URL:https://www.gracepointephrata.org/fbc/event/elder-meeting-4-2-2/2028-10-10/
LOCATION:GracePoint Church\, 327 C Street SW\, Ephrata\, WA\, 98823\, United States
CATEGORIES:Meeting
ATTACH;FMTTYPE=image/jpeg:https://www.gracepointephrata.org/fbc/wp-content/uploads/2023/05/Elder-Meeting.jpg
ORGANIZER;CN="GracePoint Church":MAILTO:church@gracepointephrata.org
END:VEVENT
BEGIN:VEVENT
DTSTART;TZID=America/Los_Angeles:20281114T183000
DTEND;TZID=America/Los_Angeles:20281114T200000
DTSTAMP:20260423T004225
CREATED:20251208T171348Z
LAST-MODIFIED:20251224T174257Z
UID:10004327-1857839400-1857844800@www.gracepointephrata.org
SUMMARY:Elder Meeting
DESCRIPTION:The Elders of GracePoint Church will gather for their bi-weekly meeting.  If you would like to attend or have an issue you would like the elders to discuss\, please contact chairman\, Kevin Guinn\, or the office.
URL:https://www.gracepointephrata.org/fbc/event/elder-meeting-4-2-2/2028-11-14/
LOCATION:GracePoint Church\, 327 C Street SW\, Ephrata\, WA\, 98823\, United States
CATEGORIES:Meeting
ATTACH;FMTTYPE=image/jpeg:https://www.gracepointephrata.org/fbc/wp-content/uploads/2023/05/Elder-Meeting.jpg
ORGANIZER;CN="GracePoint Church":MAILTO:church@gracepointephrata.org
END:VEVENT
BEGIN:VEVENT
DTSTART;TZID=America/Los_Angeles:20281212T183000
DTEND;TZID=America/Los_Angeles:20281212T200000
DTSTAMP:20260423T004225
CREATED:20251208T171348Z
LAST-MODIFIED:20251224T174257Z
UID:10004328-1860258600-1860264000@www.gracepointephrata.org
SUMMARY:Elder Meeting
DESCRIPTION:The Elders of GracePoint Church will gather for their bi-weekly meeting.  If you would like to attend or have an issue you would like the elders to discuss\, please contact chairman\, Kevin Guinn\, or the office.
URL:https://www.gracepointephrata.org/fbc/event/elder-meeting-4-2-2/2028-12-12/
LOCATION:GracePoint Church\, 327 C Street SW\, Ephrata\, WA\, 98823\, United States
CATEGORIES:Meeting
ATTACH;FMTTYPE=image/jpeg:https://www.gracepointephrata.org/fbc/wp-content/uploads/2023/05/Elder-Meeting.jpg
ORGANIZER;CN="GracePoint Church":MAILTO:church@gracepointephrata.org
END:VEVENT
BEGIN:VEVENT
DTSTART;TZID=America/Los_Angeles:20290109T183000
DTEND;TZID=America/Los_Angeles:20290109T200000
DTSTAMP:20260423T004225
CREATED:20251208T171348Z
LAST-MODIFIED:20251224T174257Z
UID:10004329-1862677800-1862683200@www.gracepointephrata.org
SUMMARY:Elder Meeting
DESCRIPTION:The Elders of GracePoint Church will gather for their bi-weekly meeting.  If you would like to attend or have an issue you would like the elders to discuss\, please contact chairman\, Kevin Guinn\, or the office.
URL:https://www.gracepointephrata.org/fbc/event/elder-meeting-4-2-2/2029-01-09/
LOCATION:GracePoint Church\, 327 C Street SW\, Ephrata\, WA\, 98823\, United States
CATEGORIES:Meeting
ATTACH;FMTTYPE=image/jpeg:https://www.gracepointephrata.org/fbc/wp-content/uploads/2023/05/Elder-Meeting.jpg
ORGANIZER;CN="GracePoint Church":MAILTO:church@gracepointephrata.org
END:VEVENT
BEGIN:VEVENT
DTSTART;TZID=America/Los_Angeles:20290213T183000
DTEND;TZID=America/Los_Angeles:20290213T200000
DTSTAMP:20260423T004225
CREATED:20251208T171348Z
LAST-MODIFIED:20251224T174257Z
UID:10004330-1865701800-1865707200@www.gracepointephrata.org
SUMMARY:Elder Meeting
DESCRIPTION:The Elders of GracePoint Church will gather for their bi-weekly meeting.  If you would like to attend or have an issue you would like the elders to discuss\, please contact chairman\, Kevin Guinn\, or the office.
URL:https://www.gracepointephrata.org/fbc/event/elder-meeting-4-2-2/2029-02-13/
LOCATION:GracePoint Church\, 327 C Street SW\, Ephrata\, WA\, 98823\, United States
CATEGORIES:Meeting
ATTACH;FMTTYPE=image/jpeg:https://www.gracepointephrata.org/fbc/wp-content/uploads/2023/05/Elder-Meeting.jpg
ORGANIZER;CN="GracePoint Church":MAILTO:church@gracepointephrata.org
END:VEVENT
BEGIN:VEVENT
DTSTART;TZID=America/Los_Angeles:20290313T183000
DTEND;TZID=America/Los_Angeles:20290313T200000
DTSTAMP:20260423T004225
CREATED:20251208T171348Z
LAST-MODIFIED:20251224T174257Z
UID:10004331-1868121000-1868126400@www.gracepointephrata.org
SUMMARY:Elder Meeting
DESCRIPTION:The Elders of GracePoint Church will gather for their bi-weekly meeting.  If you would like to attend or have an issue you would like the elders to discuss\, please contact chairman\, Kevin Guinn\, or the office.
URL:https://www.gracepointephrata.org/fbc/event/elder-meeting-4-2-2/2029-03-13/
LOCATION:GracePoint Church\, 327 C Street SW\, Ephrata\, WA\, 98823\, United States
CATEGORIES:Meeting
ATTACH;FMTTYPE=image/jpeg:https://www.gracepointephrata.org/fbc/wp-content/uploads/2023/05/Elder-Meeting.jpg
ORGANIZER;CN="GracePoint Church":MAILTO:church@gracepointephrata.org
END:VEVENT
BEGIN:VEVENT
DTSTART;TZID=America/Los_Angeles:20290410T183000
DTEND;TZID=America/Los_Angeles:20290410T200000
DTSTAMP:20260423T004225
CREATED:20251208T171348Z
LAST-MODIFIED:20251224T174257Z
UID:10004332-1870540200-1870545600@www.gracepointephrata.org
SUMMARY:Elder Meeting
DESCRIPTION:The Elders of GracePoint Church will gather for their bi-weekly meeting.  If you would like to attend or have an issue you would like the elders to discuss\, please contact chairman\, Kevin Guinn\, or the office.
URL:https://www.gracepointephrata.org/fbc/event/elder-meeting-4-2-2/2029-04-10/
LOCATION:GracePoint Church\, 327 C Street SW\, Ephrata\, WA\, 98823\, United States
CATEGORIES:Meeting
ATTACH;FMTTYPE=image/jpeg:https://www.gracepointephrata.org/fbc/wp-content/uploads/2023/05/Elder-Meeting.jpg
ORGANIZER;CN="GracePoint Church":MAILTO:church@gracepointephrata.org
END:VEVENT
BEGIN:VEVENT
DTSTART;TZID=America/Los_Angeles:20290508T183000
DTEND;TZID=America/Los_Angeles:20290508T200000
DTSTAMP:20260423T004225
CREATED:20251208T171348Z
LAST-MODIFIED:20251224T174257Z
UID:10004333-1872959400-1872964800@www.gracepointephrata.org
SUMMARY:Elder Meeting
DESCRIPTION:The Elders of GracePoint Church will gather for their bi-weekly meeting.  If you would like to attend or have an issue you would like the elders to discuss\, please contact chairman\, Kevin Guinn\, or the office.
URL:https://www.gracepointephrata.org/fbc/event/elder-meeting-4-2-2/2029-05-08/
LOCATION:GracePoint Church\, 327 C Street SW\, Ephrata\, WA\, 98823\, United States
CATEGORIES:Meeting
ATTACH;FMTTYPE=image/jpeg:https://www.gracepointephrata.org/fbc/wp-content/uploads/2023/05/Elder-Meeting.jpg
ORGANIZER;CN="GracePoint Church":MAILTO:church@gracepointephrata.org
END:VEVENT
BEGIN:VEVENT
DTSTART;TZID=America/Los_Angeles:20290612T183000
DTEND;TZID=America/Los_Angeles:20290612T200000
DTSTAMP:20260423T004225
CREATED:20251208T171348Z
LAST-MODIFIED:20251224T174257Z
UID:10004334-1875983400-1875988800@www.gracepointephrata.org
SUMMARY:Elder Meeting
DESCRIPTION:The Elders of GracePoint Church will gather for their bi-weekly meeting.  If you would like to attend or have an issue you would like the elders to discuss\, please contact chairman\, Kevin Guinn\, or the office.
URL:https://www.gracepointephrata.org/fbc/event/elder-meeting-4-2-2/2029-06-12/
LOCATION:GracePoint Church\, 327 C Street SW\, Ephrata\, WA\, 98823\, United States
CATEGORIES:Meeting
ATTACH;FMTTYPE=image/jpeg:https://www.gracepointephrata.org/fbc/wp-content/uploads/2023/05/Elder-Meeting.jpg
ORGANIZER;CN="GracePoint Church":MAILTO:church@gracepointephrata.org
END:VEVENT
BEGIN:VEVENT
DTSTART;TZID=America/Los_Angeles:20290710T183000
DTEND;TZID=America/Los_Angeles:20290710T200000
DTSTAMP:20260423T004225
CREATED:20251208T171348Z
LAST-MODIFIED:20251224T174257Z
UID:10004335-1878402600-1878408000@www.gracepointephrata.org
SUMMARY:Elder Meeting
DESCRIPTION:The Elders of GracePoint Church will gather for their bi-weekly meeting.  If you would like to attend or have an issue you would like the elders to discuss\, please contact chairman\, Kevin Guinn\, or the office.
URL:https://www.gracepointephrata.org/fbc/event/elder-meeting-4-2-2/2029-07-10/
LOCATION:GracePoint Church\, 327 C Street SW\, Ephrata\, WA\, 98823\, United States
CATEGORIES:Meeting
ATTACH;FMTTYPE=image/jpeg:https://www.gracepointephrata.org/fbc/wp-content/uploads/2023/05/Elder-Meeting.jpg
ORGANIZER;CN="GracePoint Church":MAILTO:church@gracepointephrata.org
END:VEVENT
BEGIN:VEVENT
DTSTART;TZID=America/Los_Angeles:20290814T183000
DTEND;TZID=America/Los_Angeles:20290814T200000
DTSTAMP:20260423T004225
CREATED:20251208T171348Z
LAST-MODIFIED:20251224T174257Z
UID:10004336-1881426600-1881432000@www.gracepointephrata.org
SUMMARY:Elder Meeting
DESCRIPTION:The Elders of GracePoint Church will gather for their bi-weekly meeting.  If you would like to attend or have an issue you would like the elders to discuss\, please contact chairman\, Kevin Guinn\, or the office.
URL:https://www.gracepointephrata.org/fbc/event/elder-meeting-4-2-2/2029-08-14/
LOCATION:GracePoint Church\, 327 C Street SW\, Ephrata\, WA\, 98823\, United States
CATEGORIES:Meeting
ATTACH;FMTTYPE=image/jpeg:https://www.gracepointephrata.org/fbc/wp-content/uploads/2023/05/Elder-Meeting.jpg
ORGANIZER;CN="GracePoint Church":MAILTO:church@gracepointephrata.org
END:VEVENT
BEGIN:VEVENT
DTSTART;TZID=America/Los_Angeles:20290911T183000
DTEND;TZID=America/Los_Angeles:20290911T200000
DTSTAMP:20260423T004225
CREATED:20251208T171348Z
LAST-MODIFIED:20251224T174257Z
UID:10004337-1883845800-1883851200@www.gracepointephrata.org
SUMMARY:Elder Meeting
DESCRIPTION:The Elders of GracePoint Church will gather for their bi-weekly meeting.  If you would like to attend or have an issue you would like the elders to discuss\, please contact chairman\, Kevin Guinn\, or the office.
URL:https://www.gracepointephrata.org/fbc/event/elder-meeting-4-2-2/2029-09-11/
LOCATION:GracePoint Church\, 327 C Street SW\, Ephrata\, WA\, 98823\, United States
CATEGORIES:Meeting
ATTACH;FMTTYPE=image/jpeg:https://www.gracepointephrata.org/fbc/wp-content/uploads/2023/05/Elder-Meeting.jpg
ORGANIZER;CN="GracePoint Church":MAILTO:church@gracepointephrata.org
END:VEVENT
BEGIN:VEVENT
DTSTART;TZID=America/Los_Angeles:20291009T183000
DTEND;TZID=America/Los_Angeles:20291009T200000
DTSTAMP:20260423T004225
CREATED:20251208T171348Z
LAST-MODIFIED:20251224T174257Z
UID:10004338-1886265000-1886270400@www.gracepointephrata.org
SUMMARY:Elder Meeting
DESCRIPTION:The Elders of GracePoint Church will gather for their bi-weekly meeting.  If you would like to attend or have an issue you would like the elders to discuss\, please contact chairman\, Kevin Guinn\, or the office.
URL:https://www.gracepointephrata.org/fbc/event/elder-meeting-4-2-2/2029-10-09/
LOCATION:GracePoint Church\, 327 C Street SW\, Ephrata\, WA\, 98823\, United States
CATEGORIES:Meeting
ATTACH;FMTTYPE=image/jpeg:https://www.gracepointephrata.org/fbc/wp-content/uploads/2023/05/Elder-Meeting.jpg
ORGANIZER;CN="GracePoint Church":MAILTO:church@gracepointephrata.org
END:VEVENT
END:VCALENDAR