BEGIN:VCALENDAR
VERSION:2.0
PRODID:-//Gracepoint Church Ephrata - ECPv6.15.20//NONSGML v1.0//EN
CALSCALE:GREGORIAN
METHOD:PUBLISH
X-WR-CALNAME:Gracepoint Church Ephrata
X-ORIGINAL-URL:https://www.gracepointephrata.org/fbc
X-WR-CALDESC:Events for Gracepoint Church Ephrata
REFRESH-INTERVAL;VALUE=DURATION:PT1H
X-Robots-Tag:noindex
X-PUBLISHED-TTL:PT1H
BEGIN:VTIMEZONE
TZID:America/Los_Angeles
BEGIN:DAYLIGHT
TZOFFSETFROM:-0800
TZOFFSETTO:-0700
TZNAME:PDT
DTSTART:20240310T100000
END:DAYLIGHT
BEGIN:STANDARD
TZOFFSETFROM:-0700
TZOFFSETTO:-0800
TZNAME:PST
DTSTART:20241103T090000
END:STANDARD
BEGIN:DAYLIGHT
TZOFFSETFROM:-0800
TZOFFSETTO:-0700
TZNAME:PDT
DTSTART:20250309T100000
END:DAYLIGHT
BEGIN:STANDARD
TZOFFSETFROM:-0700
TZOFFSETTO:-0800
TZNAME:PST
DTSTART:20251102T090000
END:STANDARD
BEGIN:DAYLIGHT
TZOFFSETFROM:-0800
TZOFFSETTO:-0700
TZNAME:PDT
DTSTART:20260308T100000
END:DAYLIGHT
BEGIN:STANDARD
TZOFFSETFROM:-0700
TZOFFSETTO:-0800
TZNAME:PST
DTSTART:20261101T090000
END:STANDARD
BEGIN:DAYLIGHT
TZOFFSETFROM:-0800
TZOFFSETTO:-0700
TZNAME:PDT
DTSTART:20270314T100000
END:DAYLIGHT
BEGIN:STANDARD
TZOFFSETFROM:-0700
TZOFFSETTO:-0800
TZNAME:PST
DTSTART:20271107T090000
END:STANDARD
END:VTIMEZONE
BEGIN:VEVENT
DTSTART;TZID=America/Los_Angeles:20260114T180000
DTEND;TZID=America/Los_Angeles:20260114T193000
DTSTAMP:20260421T023520
CREATED:20250813T171139Z
LAST-MODIFIED:20250813T171139Z
UID:10004023-1768413600-1768419000@www.gracepointephrata.org
SUMMARY:AWANA
DESCRIPTION:Join us at AWANA on Wednesday nights from 6-7:30PM for youth ages 3 years to 6th grade.  To learn more click here.
URL:https://www.gracepointephrata.org/fbc/event/awana-2/2026-01-14/
LOCATION:GracePoint Church\, 327 C Street SW\, Ephrata\, WA\, 98823\, United States
ATTACH;FMTTYPE=image/jpeg:https://www.gracepointephrata.org/fbc/wp-content/uploads/2024/09/Awana-2024-25-1.jpg
ORGANIZER;CN="Tom Beierman":MAILTO:ephrataawana@gmail.com
END:VEVENT
BEGIN:VEVENT
DTSTART;TZID=America/Los_Angeles:20260107T180000
DTEND;TZID=America/Los_Angeles:20260107T193000
DTSTAMP:20260421T023520
CREATED:20250813T171139Z
LAST-MODIFIED:20250813T171139Z
UID:10004022-1767808800-1767814200@www.gracepointephrata.org
SUMMARY:AWANA
DESCRIPTION:Join us at AWANA on Wednesday nights from 6-7:30PM for youth ages 3 years to 6th grade.  To learn more click here.
URL:https://www.gracepointephrata.org/fbc/event/awana-2/2026-01-07/
LOCATION:GracePoint Church\, 327 C Street SW\, Ephrata\, WA\, 98823\, United States
ATTACH;FMTTYPE=image/jpeg:https://www.gracepointephrata.org/fbc/wp-content/uploads/2024/09/Awana-2024-25-1.jpg
ORGANIZER;CN="Tom Beierman":MAILTO:ephrataawana@gmail.com
END:VEVENT
BEGIN:VEVENT
DTSTART;TZID=America/Los_Angeles:20251217T180000
DTEND;TZID=America/Los_Angeles:20251217T193000
DTSTAMP:20260421T023520
CREATED:20250813T171139Z
LAST-MODIFIED:20250813T171139Z
UID:10004021-1765994400-1765999800@www.gracepointephrata.org
SUMMARY:AWANA
DESCRIPTION:Join us at AWANA on Wednesday nights from 6-7:30PM for youth ages 3 years to 6th grade.  To learn more click here.
URL:https://www.gracepointephrata.org/fbc/event/awana-2/2025-12-17/
LOCATION:GracePoint Church\, 327 C Street SW\, Ephrata\, WA\, 98823\, United States
ATTACH;FMTTYPE=image/jpeg:https://www.gracepointephrata.org/fbc/wp-content/uploads/2024/09/Awana-2024-25-1.jpg
ORGANIZER;CN="Tom Beierman":MAILTO:ephrataawana@gmail.com
END:VEVENT
BEGIN:VEVENT
DTSTART;TZID=America/Los_Angeles:20251210T180000
DTEND;TZID=America/Los_Angeles:20251210T193000
DTSTAMP:20260421T023520
CREATED:20250813T171139Z
LAST-MODIFIED:20250813T171139Z
UID:10004020-1765389600-1765395000@www.gracepointephrata.org
SUMMARY:AWANA
DESCRIPTION:Join us at AWANA on Wednesday nights from 6-7:30PM for youth ages 3 years to 6th grade.  To learn more click here.
URL:https://www.gracepointephrata.org/fbc/event/awana-2/2025-12-10/
LOCATION:GracePoint Church\, 327 C Street SW\, Ephrata\, WA\, 98823\, United States
ATTACH;FMTTYPE=image/jpeg:https://www.gracepointephrata.org/fbc/wp-content/uploads/2024/09/Awana-2024-25-1.jpg
ORGANIZER;CN="Tom Beierman":MAILTO:ephrataawana@gmail.com
END:VEVENT
BEGIN:VEVENT
DTSTART;TZID=America/Los_Angeles:20251203T180000
DTEND;TZID=America/Los_Angeles:20251203T193000
DTSTAMP:20260421T023520
CREATED:20250813T171139Z
LAST-MODIFIED:20250813T171139Z
UID:10004019-1764784800-1764790200@www.gracepointephrata.org
SUMMARY:AWANA
DESCRIPTION:Join us at AWANA on Wednesday nights from 6-7:30PM for youth ages 3 years to 6th grade.  To learn more click here.
URL:https://www.gracepointephrata.org/fbc/event/awana-2/2025-12-03/
LOCATION:GracePoint Church\, 327 C Street SW\, Ephrata\, WA\, 98823\, United States
ATTACH;FMTTYPE=image/jpeg:https://www.gracepointephrata.org/fbc/wp-content/uploads/2024/09/Awana-2024-25-1.jpg
ORGANIZER;CN="Tom Beierman":MAILTO:ephrataawana@gmail.com
END:VEVENT
BEGIN:VEVENT
DTSTART;TZID=America/Los_Angeles:20251119T180000
DTEND;TZID=America/Los_Angeles:20251119T193000
DTSTAMP:20260421T023520
CREATED:20250813T171139Z
LAST-MODIFIED:20250813T171139Z
UID:10004018-1763575200-1763580600@www.gracepointephrata.org
SUMMARY:AWANA
DESCRIPTION:Join us at AWANA on Wednesday nights from 6-7:30PM for youth ages 3 years to 6th grade.  To learn more click here.
URL:https://www.gracepointephrata.org/fbc/event/awana-2/2025-11-19/
LOCATION:GracePoint Church\, 327 C Street SW\, Ephrata\, WA\, 98823\, United States
ATTACH;FMTTYPE=image/jpeg:https://www.gracepointephrata.org/fbc/wp-content/uploads/2024/09/Awana-2024-25-1.jpg
ORGANIZER;CN="Tom Beierman":MAILTO:ephrataawana@gmail.com
END:VEVENT
BEGIN:VEVENT
DTSTART;TZID=America/Los_Angeles:20251112T180000
DTEND;TZID=America/Los_Angeles:20251112T193000
DTSTAMP:20260421T023520
CREATED:20250813T171139Z
LAST-MODIFIED:20250813T171139Z
UID:10004017-1762970400-1762975800@www.gracepointephrata.org
SUMMARY:AWANA
DESCRIPTION:Join us at AWANA on Wednesday nights from 6-7:30PM for youth ages 3 years to 6th grade.  To learn more click here.
URL:https://www.gracepointephrata.org/fbc/event/awana-2/2025-11-12/
LOCATION:GracePoint Church\, 327 C Street SW\, Ephrata\, WA\, 98823\, United States
ATTACH;FMTTYPE=image/jpeg:https://www.gracepointephrata.org/fbc/wp-content/uploads/2024/09/Awana-2024-25-1.jpg
ORGANIZER;CN="Tom Beierman":MAILTO:ephrataawana@gmail.com
END:VEVENT
BEGIN:VEVENT
DTSTART;TZID=America/Los_Angeles:20251105T180000
DTEND;TZID=America/Los_Angeles:20251105T193000
DTSTAMP:20260421T023520
CREATED:20250813T171139Z
LAST-MODIFIED:20250813T171139Z
UID:10004016-1762365600-1762371000@www.gracepointephrata.org
SUMMARY:AWANA
DESCRIPTION:Join us at AWANA on Wednesday nights from 6-7:30PM for youth ages 3 years to 6th grade.  To learn more click here.
URL:https://www.gracepointephrata.org/fbc/event/awana-2/2025-11-05/
LOCATION:GracePoint Church\, 327 C Street SW\, Ephrata\, WA\, 98823\, United States
ATTACH;FMTTYPE=image/jpeg:https://www.gracepointephrata.org/fbc/wp-content/uploads/2024/09/Awana-2024-25-1.jpg
ORGANIZER;CN="Tom Beierman":MAILTO:ephrataawana@gmail.com
END:VEVENT
BEGIN:VEVENT
DTSTART;TZID=America/Los_Angeles:20251029T180000
DTEND;TZID=America/Los_Angeles:20251029T193000
DTSTAMP:20260421T023520
CREATED:20250813T171139Z
LAST-MODIFIED:20250813T171139Z
UID:10004015-1761760800-1761766200@www.gracepointephrata.org
SUMMARY:AWANA
DESCRIPTION:Join us at AWANA on Wednesday nights from 6-7:30PM for youth ages 3 years to 6th grade.  To learn more click here.
URL:https://www.gracepointephrata.org/fbc/event/awana-2/2025-10-29/
LOCATION:GracePoint Church\, 327 C Street SW\, Ephrata\, WA\, 98823\, United States
ATTACH;FMTTYPE=image/jpeg:https://www.gracepointephrata.org/fbc/wp-content/uploads/2024/09/Awana-2024-25-1.jpg
ORGANIZER;CN="Tom Beierman":MAILTO:ephrataawana@gmail.com
END:VEVENT
BEGIN:VEVENT
DTSTART;TZID=America/Los_Angeles:20251022T180000
DTEND;TZID=America/Los_Angeles:20251022T193000
DTSTAMP:20260421T023520
CREATED:20250813T171139Z
LAST-MODIFIED:20250813T171139Z
UID:10004014-1761156000-1761161400@www.gracepointephrata.org
SUMMARY:AWANA
DESCRIPTION:Join us at AWANA on Wednesday nights from 6-7:30PM for youth ages 3 years to 6th grade.  To learn more click here.
URL:https://www.gracepointephrata.org/fbc/event/awana-2/2025-10-22/
LOCATION:GracePoint Church\, 327 C Street SW\, Ephrata\, WA\, 98823\, United States
ATTACH;FMTTYPE=image/jpeg:https://www.gracepointephrata.org/fbc/wp-content/uploads/2024/09/Awana-2024-25-1.jpg
ORGANIZER;CN="Tom Beierman":MAILTO:ephrataawana@gmail.com
END:VEVENT
BEGIN:VEVENT
DTSTART;TZID=America/Los_Angeles:20251015T180000
DTEND;TZID=America/Los_Angeles:20251015T193000
DTSTAMP:20260421T023520
CREATED:20250813T171139Z
LAST-MODIFIED:20250813T171139Z
UID:10004013-1760551200-1760556600@www.gracepointephrata.org
SUMMARY:AWANA
DESCRIPTION:Join us at AWANA on Wednesday nights from 6-7:30PM for youth ages 3 years to 6th grade.  To learn more click here.
URL:https://www.gracepointephrata.org/fbc/event/awana-2/2025-10-15/
LOCATION:GracePoint Church\, 327 C Street SW\, Ephrata\, WA\, 98823\, United States
ATTACH;FMTTYPE=image/jpeg:https://www.gracepointephrata.org/fbc/wp-content/uploads/2024/09/Awana-2024-25-1.jpg
ORGANIZER;CN="Tom Beierman":MAILTO:ephrataawana@gmail.com
END:VEVENT
BEGIN:VEVENT
DTSTART;TZID=America/Los_Angeles:20251008T180000
DTEND;TZID=America/Los_Angeles:20251008T193000
DTSTAMP:20260421T023520
CREATED:20250813T171139Z
LAST-MODIFIED:20250813T171139Z
UID:10004012-1759946400-1759951800@www.gracepointephrata.org
SUMMARY:AWANA
DESCRIPTION:Join us at AWANA on Wednesday nights from 6-7:30PM for youth ages 3 years to 6th grade.  To learn more click here.
URL:https://www.gracepointephrata.org/fbc/event/awana-2/2025-10-08/
LOCATION:GracePoint Church\, 327 C Street SW\, Ephrata\, WA\, 98823\, United States
ATTACH;FMTTYPE=image/jpeg:https://www.gracepointephrata.org/fbc/wp-content/uploads/2024/09/Awana-2024-25-1.jpg
ORGANIZER;CN="Tom Beierman":MAILTO:ephrataawana@gmail.com
END:VEVENT
BEGIN:VEVENT
DTSTART;TZID=America/Los_Angeles:20251001T180000
DTEND;TZID=America/Los_Angeles:20251001T193000
DTSTAMP:20260421T023521
CREATED:20250813T171139Z
LAST-MODIFIED:20250813T171139Z
UID:10004011-1759341600-1759347000@www.gracepointephrata.org
SUMMARY:AWANA
DESCRIPTION:Join us at AWANA on Wednesday nights from 6-7:30PM for youth ages 3 years to 6th grade.  To learn more click here.
URL:https://www.gracepointephrata.org/fbc/event/awana-2/2025-10-01/
LOCATION:GracePoint Church\, 327 C Street SW\, Ephrata\, WA\, 98823\, United States
ATTACH;FMTTYPE=image/jpeg:https://www.gracepointephrata.org/fbc/wp-content/uploads/2024/09/Awana-2024-25-1.jpg
ORGANIZER;CN="Tom Beierman":MAILTO:ephrataawana@gmail.com
END:VEVENT
BEGIN:VEVENT
DTSTART;TZID=America/Los_Angeles:20250924T180000
DTEND;TZID=America/Los_Angeles:20250924T193000
DTSTAMP:20260421T023521
CREATED:20250813T171139Z
LAST-MODIFIED:20250813T171139Z
UID:10004010-1758736800-1758742200@www.gracepointephrata.org
SUMMARY:AWANA
DESCRIPTION:Join us at AWANA on Wednesday nights from 6-7:30PM for youth ages 3 years to 6th grade.  To learn more click here.
URL:https://www.gracepointephrata.org/fbc/event/awana-2/2025-09-24/
LOCATION:GracePoint Church\, 327 C Street SW\, Ephrata\, WA\, 98823\, United States
ATTACH;FMTTYPE=image/jpeg:https://www.gracepointephrata.org/fbc/wp-content/uploads/2024/09/Awana-2024-25-1.jpg
ORGANIZER;CN="Tom Beierman":MAILTO:ephrataawana@gmail.com
END:VEVENT
BEGIN:VEVENT
DTSTART;TZID=America/Los_Angeles:20250917T180000
DTEND;TZID=America/Los_Angeles:20250917T193000
DTSTAMP:20260421T023521
CREATED:20250813T171139Z
LAST-MODIFIED:20250813T171139Z
UID:10004009-1758132000-1758137400@www.gracepointephrata.org
SUMMARY:AWANA
DESCRIPTION:Join us at AWANA on Wednesday nights from 6-7:30PM for youth ages 3 years to 6th grade.  To learn more click here.
URL:https://www.gracepointephrata.org/fbc/event/awana-2/2025-09-17/
LOCATION:GracePoint Church\, 327 C Street SW\, Ephrata\, WA\, 98823\, United States
ATTACH;FMTTYPE=image/jpeg:https://www.gracepointephrata.org/fbc/wp-content/uploads/2024/09/Awana-2024-25-1.jpg
ORGANIZER;CN="Tom Beierman":MAILTO:ephrataawana@gmail.com
END:VEVENT
BEGIN:VEVENT
DTSTART;TZID=America/Los_Angeles:20250910T180000
DTEND;TZID=America/Los_Angeles:20250910T193000
DTSTAMP:20260421T023521
CREATED:20250813T171139Z
LAST-MODIFIED:20250813T171139Z
UID:10004008-1757527200-1757532600@www.gracepointephrata.org
SUMMARY:AWANA
DESCRIPTION:Join us at AWANA on Wednesday nights from 6-7:30PM for youth ages 3 years to 6th grade.  To learn more click here.
URL:https://www.gracepointephrata.org/fbc/event/awana-2/2025-09-10/
LOCATION:GracePoint Church\, 327 C Street SW\, Ephrata\, WA\, 98823\, United States
ATTACH;FMTTYPE=image/jpeg:https://www.gracepointephrata.org/fbc/wp-content/uploads/2024/09/Awana-2024-25-1.jpg
ORGANIZER;CN="Tom Beierman":MAILTO:ephrataawana@gmail.com
END:VEVENT
BEGIN:VEVENT
DTSTART;TZID=America/Los_Angeles:20250903T180000
DTEND;TZID=America/Los_Angeles:20250903T193000
DTSTAMP:20260421T023521
CREATED:20250813T171139Z
LAST-MODIFIED:20250813T171139Z
UID:10004007-1756922400-1756927800@www.gracepointephrata.org
SUMMARY:AWANA
DESCRIPTION:Join us at AWANA on Wednesday nights from 6-7:30PM for youth ages 3 years to 6th grade.  To learn more click here.
URL:https://www.gracepointephrata.org/fbc/event/awana-2/2025-09-03/
LOCATION:GracePoint Church\, 327 C Street SW\, Ephrata\, WA\, 98823\, United States
ATTACH;FMTTYPE=image/jpeg:https://www.gracepointephrata.org/fbc/wp-content/uploads/2024/09/Awana-2024-25-1.jpg
ORGANIZER;CN="Tom Beierman":MAILTO:ephrataawana@gmail.com
END:VEVENT
BEGIN:VEVENT
DTSTART;TZID=America/Los_Angeles:20250423T180000
DTEND;TZID=America/Los_Angeles:20250423T193000
DTSTAMP:20260421T023521
CREATED:20240919T135101Z
LAST-MODIFIED:20250423T170950Z
UID:10002738-1745431200-1745436600@www.gracepointephrata.org
SUMMARY:Awana
DESCRIPTION:Join us at AWANA on Wednesday nights from 6-7:30PM for youth ages 3 years to 6th grade.  To learn more click here. 
URL:https://www.gracepointephrata.org/fbc/event/awana/2025-04-23/
LOCATION:GracePoint Church\, 327 C Street SW\, Ephrata\, WA\, 98823\, United States
CATEGORIES:Youth
ATTACH;FMTTYPE=image/jpeg:https://www.gracepointephrata.org/fbc/wp-content/uploads/2024/09/Awana-2024-25-1.jpg
ORGANIZER;CN="Tom Beierman":MAILTO:ephrataawana@gmail.com
END:VEVENT
END:VCALENDAR